BEGIN:VCALENDAR
VERSION:2.0
PRODID:-//Herlazhofen - ECPv6.15.20//NONSGML v1.0//EN
CALSCALE:GREGORIAN
METHOD:PUBLISH
X-ORIGINAL-URL:https://herlazhofen.de
X-WR-CALDESC:Veranstaltungen für Herlazhofen
REFRESH-INTERVAL;VALUE=DURATION:PT1H
X-Robots-Tag:noindex
X-PUBLISHED-TTL:PT1H
BEGIN:VTIMEZONE
TZID:UTC
BEGIN:STANDARD
TZOFFSETFROM:+0000
TZOFFSETTO:+0000
TZNAME:UTC
DTSTART:20250101T000000
END:STANDARD
END:VTIMEZONE
BEGIN:VEVENT
DTSTART;VALUE=DATE:20260626
DTEND;VALUE=DATE:20260629
DTSTAMP:20260423T043556
CREATED:20260307T095944Z
LAST-MODIFIED:20260307T095944Z
UID:71-1782432000-1782691199@herlazhofen.de
SUMMARY:Musikfest Herlazhofen
DESCRIPTION:
URL:https://herlazhofen.de/event/musikfest-herlazhofen/
END:VEVENT
END:VCALENDAR