BEGIN:VCALENDAR
VERSION:2.0
PRODID:-//Herlazhofen - ECPv6.15.20//NONSGML v1.0//EN
CALSCALE:GREGORIAN
METHOD:PUBLISH
X-ORIGINAL-URL:https://herlazhofen.de
X-WR-CALDESC:Veranstaltungen für Herlazhofen
REFRESH-INTERVAL;VALUE=DURATION:PT1H
X-Robots-Tag:noindex
X-PUBLISHED-TTL:PT1H
BEGIN:VTIMEZONE
TZID:UTC
BEGIN:STANDARD
TZOFFSETFROM:+0000
TZOFFSETTO:+0000
TZNAME:UTC
DTSTART:20250101T000000
END:STANDARD
END:VTIMEZONE
BEGIN:VEVENT
DTSTART;TZID=UTC:20260510T093000
DTEND;TZID=UTC:20260510T120000
DTSTAMP:20260422T151101
CREATED:20260325T204150Z
LAST-MODIFIED:20260325T204150Z
UID:108-1778405400-1778414400@herlazhofen.de
SUMMARY:Motorradweihe
DESCRIPTION:Am Sonntag\, 10. Mai 2026 findet um 9.30 Uhr die Motorradsegnung in Herlazhofen statt. Die Motorradfreunde Herlazhofen laden dazu ganz herzlich ein.
URL:https://herlazhofen.de/event/motorradweihe/
END:VEVENT
END:VCALENDAR